BEGIN:VCALENDAR
VERSION:2.0
PRODID:-//Squarespace Inc/Squarespace 6//v6//EN
BEGIN:VEVENT
UID:5daa507cba16583e195cfe81@squarespace.com
DTSTAMP:20191022T102607Z
DTSTART:20191209T220000Z
DTEND:20191210T060000Z
SUMMARY:(Syd) WISE Meet-Up| SAVE THE DATE
END:VEVENT
END:VCALENDAR
