BEGIN:VCALENDAR
VERSION:2.0
PRODID:-//Squarespace Inc/Squarespace 6//v6//EN
BEGIN:VEVENT
UID:5dc3bd5e9a9f46178c48f69a@squarespace.com
DTSTAMP:20191107T064840Z
DTSTART:20191211T070000Z
DTEND:20191211T100000Z
SUMMARY:(Syd) Bus Stop Films 2019 End of Year Showcase
END:VEVENT
END:VCALENDAR
