BEGIN:VCALENDAR
VERSION:2.0
PRODID:-//Squarespace Inc/Squarespace 6//v6//EN
BEGIN:VEVENT
UID:5dd29033a4639906e58076a8@squarespace.com
DTSTAMP:20191118T123741Z
DTSTART:20191129T230000Z
DTEND:20191201T090000Z
SUMMARY:(Syd) Free the Bid Aus Female Directors TVC Masterclass
END:VEVENT
END:VCALENDAR
