BEGIN:VCALENDAR
VERSION:2.0
PRODID:-//Squarespace Inc/Squarespace 6//v6//EN
BEGIN:VEVENT
UID:5dae965ea7afe7209d3c8af6@squarespace.com
DTSTAMP:20191022T102512Z
DTSTART:20191127T071500Z
DTEND:20191127T103000Z
SUMMARY:(Syd) Screen ABC - Speed Dating
END:VEVENT
END:VCALENDAR
