BEGIN:VCALENDAR
VERSION:2.0
PRODID:-//Squarespace Inc/Squarespace 6//v6//EN
BEGIN:VEVENT
UID:5da98b090decdd1af6cdebf1@squarespace.com
DTSTAMP:20191022T102502Z
DTSTART:20191126T214500Z
DTEND:20191127T060000Z
SUMMARY:(Adel) Making It Possible Program
GEO:-34.922444;138.592912
LOCATION:The Iris Cinema\, 13 Morphett Street\, Adelaide\, Adelaide\, Austr
 alia
END:VEVENT
END:VCALENDAR
