BEGIN:VCALENDAR
VERSION:2.0
PRODID:-//Squarespace Inc/Squarespace 6//v6//EN
BEGIN:VEVENT
UID:5daa5261a413de3554dd3713@squarespace.com
DTSTAMP:20191107T060154Z
DTSTART:20191124T220000Z
DTEND:20191126T060000Z
SUMMARY:(Melb) ScreenMATE Bystander Program Pilot Workshops
END:VEVENT
END:VCALENDAR
