BEGIN:VCALENDAR
VERSION:2.0
PRODID:-//Squarespace Inc/Squarespace 6//v6//EN
BEGIN:VEVENT
UID:5d6b5a404f45fb0001171235@squarespace.com
DTSTAMP:20191022T102435Z
DTSTART:20191121T220000Z
DTEND:20191123T060000Z
SUMMARY:(Vic) WIFT VIC presents Sue Maslin’s Creative Leadership Workshops
GEO:-37.829081;144.962924
LOCATION:The Arcade\, 164 Kings Way\, South Melbourne VIC 3205\, Australia
END:VEVENT
END:VCALENDAR
