BEGIN:VCALENDAR
VERSION:2.0
PRODID:-//Squarespace Inc/Squarespace 6//v6//EN
BEGIN:VEVENT
UID:5daeeb0af822266fc0f28384@squarespace.com
DTSTAMP:20191022T114312Z
DTSTART:20191122T120000Z
DTEND:20191122T125900Z
SUMMARY:(Aus) Dame Changer &amp\; Stan’s Lottie Lyell Scholarship Closes
END:VEVENT
END:VCALENDAR
