BEGIN:VCALENDAR
VERSION:2.0
PRODID:-//Squarespace Inc/Squarespace 6//v6//EN
BEGIN:VEVENT
UID:5dae903081ef8d4f645371a4@squarespace.com
DTSTAMP:20191107T060328Z
DTSTART:20191120T080000Z
DTEND:20191120T100000Z
SUMMARY:(Aus) WIFT Australia - AGM
END:VEVENT
END:VCALENDAR
