BEGIN:VCALENDAR
VERSION:2.0
PRODID:-//Squarespace Inc/Squarespace 6//v6//EN
BEGIN:VEVENT
UID:5dc3ba0bb1ca8047efcfadff@squarespace.com
DTSTAMP:20191107T063126Z
DTSTART:20191119T070000Z
DTEND:20191119T100000Z
SUMMARY:(Syd) AWG Powerhouse Mixer
END:VEVENT
END:VCALENDAR
