BEGIN:VCALENDAR
VERSION:2.0
PRODID:-//Squarespace Inc/Squarespace 6//v6//EN
BEGIN:VEVENT
UID:5cc261059b747a7da23411d8@squarespace.com
DTSTAMP:20191022T102349Z
DTSTART:20191111T220000Z
DTEND:20191114T060000Z
SUMMARY:(Melb) Screen Forever
END:VEVENT
END:VCALENDAR
