BEGIN:VCALENDAR
VERSION:2.0
PRODID:-//Squarespace Inc/Squarespace 6//v6//EN
BEGIN:VEVENT
UID:5daa4fe3a413de3554dd0ebe@squarespace.com
DTSTAMP:20191022T102332Z
DTSTART:20191110T090000Z
DTEND:20191110T100000Z
SUMMARY:(Syd) Zadie Smith - Opera House
END:VEVENT
END:VCALENDAR
