BEGIN:VCALENDAR
VERSION:2.0
PRODID:-//Squarespace Inc/Squarespace 6//v6//EN
BEGIN:VEVENT
UID:5d6b5836a464e500012bff56@squarespace.com
DTSTAMP:20190901T053528Z
DTSTART:20191002T230000Z
DTEND:20191004T070000Z
SUMMARY:Auckland\, New Zealand: The Power of Inclusion Summit
GEO:-36.851857;174.762342
LOCATION:Aotea Centre\, 50 Mayoral Dr\, Auckland\, New Zealand
END:VEVENT
END:VCALENDAR
