BEGIN:VCALENDAR
VERSION:2.0
PRODID:-//Squarespace Inc/Squarespace 6//v6//EN
BEGIN:VEVENT
UID:5daa51ca01f002463793cc9a@squarespace.com
DTSTAMP:20191022T102314Z
DTSTART:20191029T033000Z
DTEND:20191029T060000Z
SUMMARY: (Syd) The Show Must Go On - Wellness Roadshow
GEO:-33.867415;151.212739
LOCATION:Parliament House\, NSW Parliament 6 Macquarie Street\,\, Sydney\, 
 VIC 2000\, Australia
END:VEVENT
END:VCALENDAR
