BEGIN:VCALENDAR
VERSION:2.0
PRODID:-//Squarespace Inc/Squarespace 6//v6//EN
BEGIN:VEVENT
UID:5db6681cc853f67fa18b8ceb@squarespace.com
DTSTAMP:20191107T062354Z
DTSTART:20191113T070000Z
DTEND:20191113T093000Z
SUMMARY:(Syd) Ozdocs - A Salute to Pat Fisk
END:VEVENT
END:VCALENDAR
