BEGIN:VCALENDAR
VERSION:2.0
PRODID:-//Squarespace Inc/Squarespace 6//v6//EN
BEGIN:VEVENT
UID:5daa4f4e7d9a4047a72c68ec@squarespace.com
DTSTAMP:20191022T102141Z
DTSTART:20191024T060000Z
DTEND:20191025T070000Z
SUMMARY:(Melb) Natalie Miller Brilliant Careers Forum
END:VEVENT
END:VCALENDAR
