BEGIN:VCALENDAR
VERSION:2.0
PRODID:-//Squarespace Inc/Squarespace 6//v6//EN
BEGIN:VEVENT
UID:5daa4e4d1fe00373c21c426a@squarespace.com
DTSTAMP:20191022T102712Z
DTSTART:20191023T073000Z
DTEND:20191023T093000Z
SUMMARY:(Syd) WIFT NSW - Panavision Event
GEO:-33.899382;151.183836
LOCATION:Erskineville Town Hall\, 104 Erskineville Rd\, Newtown\, New South 
 Wales\, 2043\, Australia
END:VEVENT
END:VCALENDAR
