BEGIN:VCALENDAR
VERSION:2.0
PRODID:-//Squarespace Inc/Squarespace 6//v6//EN
BEGIN:VEVENT
UID:5daed78b51bfc07402dea759@squarespace.com
DTSTAMP:20191022T102620Z
DTSTART:20191030T070000Z
DTEND:20191030T090000Z
SUMMARY:(Syd) AFTRS Re-Frame 'Audience Engagement
END:VEVENT
END:VCALENDAR
