BEGIN:VCALENDAR
VERSION:2.0
PRODID:-//Squarespace Inc/Squarespace 6//v6//EN
BEGIN:VEVENT
UID:5daa4ce601f00246379380ae@squarespace.com
DTSTAMP:20191018T234024Z
DTSTART:20191020T050000Z
DTEND:20191020T100000Z
SUMMARY:Doc in the Park
GEO:-33.880263;151.186724
LOCATION:Foley Park Glebe\, 140 Glebe Point Rd\, Glebe\, NSW 2037\, Austral
 ia
END:VEVENT
END:VCALENDAR
