BEGIN:VCALENDAR
VERSION:2.0
PRODID:-//Squarespace Inc/Squarespace 6//v6//EN
BEGIN:VEVENT
UID:5daa4d907d9a4047a72c4c51@squarespace.com
DTSTAMP:20191018T234348Z
DTSTART:20191021T220000Z
DTEND:20191022T060000Z
SUMMARY:Antenna DocTalk
GEO:-33.884611;151.200737
LOCATION:Palace Cinema Broadway\, 28 Broadway\, Chippendale\, NSW 2008\, Au
 stralia
END:VEVENT
END:VCALENDAR
