BEGIN:VCALENDAR
VERSION:2.0
PRODID:-//Squarespace Inc/Squarespace 6//v6//EN
BEGIN:VEVENT
UID:5d6b597a4f45fb0001170a9b@squarespace.com
DTSTAMP:20190901T054118Z
DTSTART:20191017T220000Z
DTEND:20191019T060000Z
SUMMARY:WIFT VIC presents Sue Maslin’s Creative Leadership Workshop 
GEO:-37.829081;144.962924
LOCATION:The Arcade\, 164 Kings Way\, South Melbourne VIC 3205\, Australia
END:VEVENT
END:VCALENDAR
